BEGIN:VCALENDAR
VERSION:2.0
PRODID:-//Raymond Sportsman&#039;s Club - ECPv6.15.20//NONSGML v1.0//EN
CALSCALE:GREGORIAN
METHOD:PUBLISH
X-ORIGINAL-URL:https://www.raymondsc.com
X-WR-CALDESC:Events for Raymond Sportsman&#039;s Club
REFRESH-INTERVAL;VALUE=DURATION:PT1H
X-Robots-Tag:noindex
X-PUBLISHED-TTL:PT1H
BEGIN:VTIMEZONE
TZID:America/New_York
BEGIN:DAYLIGHT
TZOFFSETFROM:-0500
TZOFFSETTO:-0400
TZNAME:EDT
DTSTART:20250309T070000
END:DAYLIGHT
BEGIN:STANDARD
TZOFFSETFROM:-0400
TZOFFSETTO:-0500
TZNAME:EST
DTSTART:20251102T060000
END:STANDARD
BEGIN:DAYLIGHT
TZOFFSETFROM:-0500
TZOFFSETTO:-0400
TZNAME:EDT
DTSTART:20260308T070000
END:DAYLIGHT
BEGIN:STANDARD
TZOFFSETFROM:-0400
TZOFFSETTO:-0500
TZNAME:EST
DTSTART:20261101T060000
END:STANDARD
BEGIN:DAYLIGHT
TZOFFSETFROM:-0500
TZOFFSETTO:-0400
TZNAME:EDT
DTSTART:20270314T070000
END:DAYLIGHT
BEGIN:STANDARD
TZOFFSETFROM:-0400
TZOFFSETTO:-0500
TZNAME:EST
DTSTART:20271107T060000
END:STANDARD
END:VTIMEZONE
BEGIN:VEVENT
DTSTART;VALUE=DATE:20260202
DTEND;VALUE=DATE:20260204
DTSTAMP:20260423T135218
CREATED:20251228T044239Z
LAST-MODIFIED:20251228T044239Z
UID:3024-1770008400-1770094799@www.raymondsc.com
SUMMARY:Groundhog Day
DESCRIPTION:
URL:https://www.raymondsc.com/event/groundhog-day/
END:VEVENT
BEGIN:VEVENT
DTSTART;TZID=America/New_York:20260204T190000
DTEND;TZID=America/New_York:20260204T210000
DTSTAMP:20260423T135218
CREATED:20251228T044329Z
LAST-MODIFIED:20251228T044329Z
UID:3026-1770231600-1770238800@www.raymondsc.com
SUMMARY:Regular Meeting
DESCRIPTION:
URL:https://www.raymondsc.com/event/regular-meeting-22/
END:VEVENT
BEGIN:VEVENT
DTSTART;VALUE=DATE:20260216
DTEND;VALUE=DATE:20260218
DTSTAMP:20260423T135218
CREATED:20251228T044443Z
LAST-MODIFIED:20251228T044443Z
UID:3028-1771218000-1771304399@www.raymondsc.com
SUMMARY:Presidents' Day
DESCRIPTION:
URL:https://www.raymondsc.com/event/presidents-day/
END:VEVENT
BEGIN:VEVENT
DTSTART;TZID=America/New_York:20260218T190000
DTEND;TZID=America/New_York:20260218T210000
DTSTAMP:20260423T135218
CREATED:20251228T044534Z
LAST-MODIFIED:20251228T044534Z
UID:3030-1771441200-1771448400@www.raymondsc.com
SUMMARY:Regular Meeting
DESCRIPTION:
URL:https://www.raymondsc.com/event/regular-meeting-23/
END:VEVENT
BEGIN:VEVENT
DTSTART;TZID=America/New_York:20260221T180000
DTEND;TZID=America/New_York:20260221T210000
DTSTAMP:20260423T135218
CREATED:20251228T044620Z
LAST-MODIFIED:20251228T044620Z
UID:3032-1771696800-1771707600@www.raymondsc.com
SUMMARY:Game Dinner
DESCRIPTION:
URL:https://www.raymondsc.com/event/game-dinner/
END:VEVENT
END:VCALENDAR