BEGIN:VCALENDAR
VERSION:2.0
PRODID:-//Raymond Sportsman&#039;s Club - ECPv6.15.20//NONSGML v1.0//EN
CALSCALE:GREGORIAN
METHOD:PUBLISH
X-WR-CALNAME:Raymond Sportsman&#039;s Club
X-ORIGINAL-URL:https://www.raymondsc.com
X-WR-CALDESC:Events for Raymond Sportsman&#039;s Club
REFRESH-INTERVAL;VALUE=DURATION:PT1H
X-Robots-Tag:noindex
X-PUBLISHED-TTL:PT1H
BEGIN:VTIMEZONE
TZID:America/New_York
BEGIN:DAYLIGHT
TZOFFSETFROM:-0500
TZOFFSETTO:-0400
TZNAME:EDT
DTSTART:20240310T070000
END:DAYLIGHT
BEGIN:STANDARD
TZOFFSETFROM:-0400
TZOFFSETTO:-0500
TZNAME:EST
DTSTART:20241103T060000
END:STANDARD
BEGIN:DAYLIGHT
TZOFFSETFROM:-0500
TZOFFSETTO:-0400
TZNAME:EDT
DTSTART:20250309T070000
END:DAYLIGHT
BEGIN:STANDARD
TZOFFSETFROM:-0400
TZOFFSETTO:-0500
TZNAME:EST
DTSTART:20251102T060000
END:STANDARD
BEGIN:DAYLIGHT
TZOFFSETFROM:-0500
TZOFFSETTO:-0400
TZNAME:EDT
DTSTART:20260308T070000
END:DAYLIGHT
BEGIN:STANDARD
TZOFFSETFROM:-0400
TZOFFSETTO:-0500
TZNAME:EST
DTSTART:20261101T060000
END:STANDARD
END:VTIMEZONE
BEGIN:VEVENT
DTSTART;TZID=America/New_York:20251001T190000
DTEND;TZID=America/New_York:20251001T203000
DTSTAMP:20260423T233307
CREATED:20250309T145305Z
LAST-MODIFIED:20250309T145305Z
UID:2905-1759345200-1759350600@www.raymondsc.com
SUMMARY:Regular Meeting
DESCRIPTION:
URL:https://www.raymondsc.com/event/regular-meeting-14/
END:VEVENT
BEGIN:VEVENT
DTSTART;TZID=America/New_York:20251005T100000
DTEND;TZID=America/New_York:20251005T130000
DTSTAMP:20260423T233307
CREATED:20250426T201917Z
LAST-MODIFIED:20250426T201917Z
UID:2962-1759658400-1759669200@www.raymondsc.com
SUMMARY:Muzzle Loader Shoot
DESCRIPTION:50 yds. – 5 shots
URL:https://www.raymondsc.com/event/muzzle-loader-shoot/
END:VEVENT
BEGIN:VEVENT
DTSTART;VALUE=DATE:20251013
DTEND;VALUE=DATE:20251015
DTSTAMP:20260423T233307
CREATED:20250310T235055Z
LAST-MODIFIED:20250310T235055Z
UID:2938-1760331600-1760417999@www.raymondsc.com
SUMMARY:Columbus Day
DESCRIPTION:
URL:https://www.raymondsc.com/event/columbus-day/
END:VEVENT
BEGIN:VEVENT
DTSTART;TZID=America/New_York:20251015T190000
DTEND;TZID=America/New_York:20251015T203000
DTSTAMP:20260423T233307
CREATED:20250309T145341Z
LAST-MODIFIED:20250309T145341Z
UID:2907-1760554800-1760560200@www.raymondsc.com
SUMMARY:Regular Meeting
DESCRIPTION:
URL:https://www.raymondsc.com/event/regular-meeting-15/
END:VEVENT
BEGIN:VEVENT
DTSTART;TZID=America/New_York:20251019T100000
DTEND;TZID=America/New_York:20251019T130000
DTSTAMP:20260423T233307
CREATED:20250426T202038Z
LAST-MODIFIED:20250426T202038Z
UID:2964-1760868000-1760878800@www.raymondsc.com
SUMMARY:Turkey Shoot
DESCRIPTION:Shotgun – Turkey Shot Shells 7-1/2 shot
URL:https://www.raymondsc.com/event/turkey-shoot/
END:VEVENT
END:VCALENDAR