BEGIN:VCALENDAR
VERSION:2.0
PRODID:-//Raymond Sportsman&#039;s Club - ECPv6.15.20//NONSGML v1.0//EN
CALSCALE:GREGORIAN
METHOD:PUBLISH
X-ORIGINAL-URL:https://www.raymondsc.com
X-WR-CALDESC:Events for Raymond Sportsman&#039;s Club
REFRESH-INTERVAL;VALUE=DURATION:PT1H
X-Robots-Tag:noindex
X-PUBLISHED-TTL:PT1H
BEGIN:VTIMEZONE
TZID:America/New_York
BEGIN:DAYLIGHT
TZOFFSETFROM:-0500
TZOFFSETTO:-0400
TZNAME:EDT
DTSTART:20240310T070000
END:DAYLIGHT
BEGIN:STANDARD
TZOFFSETFROM:-0400
TZOFFSETTO:-0500
TZNAME:EST
DTSTART:20241103T060000
END:STANDARD
BEGIN:DAYLIGHT
TZOFFSETFROM:-0500
TZOFFSETTO:-0400
TZNAME:EDT
DTSTART:20250309T070000
END:DAYLIGHT
BEGIN:STANDARD
TZOFFSETFROM:-0400
TZOFFSETTO:-0500
TZNAME:EST
DTSTART:20251102T060000
END:STANDARD
BEGIN:DAYLIGHT
TZOFFSETFROM:-0500
TZOFFSETTO:-0400
TZNAME:EDT
DTSTART:20260308T070000
END:DAYLIGHT
BEGIN:STANDARD
TZOFFSETFROM:-0400
TZOFFSETTO:-0500
TZNAME:EST
DTSTART:20261101T060000
END:STANDARD
END:VTIMEZONE
BEGIN:VEVENT
DTSTART;TZID=America/New_York:20250702T190000
DTEND;TZID=America/New_York:20250702T203000
DTSTAMP:20260424T041842
CREATED:20250309T144859Z
LAST-MODIFIED:20250309T144859Z
UID:2893-1751482800-1751488200@www.raymondsc.com
SUMMARY:Regular Meeting
DESCRIPTION:
URL:https://www.raymondsc.com/event/regular-meeting-8/
END:VEVENT
BEGIN:VEVENT
DTSTART;VALUE=DATE:20250704
DTEND;VALUE=DATE:20250706
DTSTAMP:20260424T041842
CREATED:20250310T234846Z
LAST-MODIFIED:20250310T234846Z
UID:2934-1751605200-1751691599@www.raymondsc.com
SUMMARY:Independence Day
DESCRIPTION:
URL:https://www.raymondsc.com/event/independence-day/
END:VEVENT
BEGIN:VEVENT
DTSTART;TZID=America/New_York:20250706T080000
DTEND;TZID=America/New_York:20250706T170000
DTSTAMP:20260424T041842
CREATED:20250310T165414Z
LAST-MODIFIED:20250310T165414Z
UID:2923-1751788800-1751821200@www.raymondsc.com
SUMMARY:GSB Shoot
DESCRIPTION:
URL:https://www.raymondsc.com/event/gsb-shoot-2/
END:VEVENT
BEGIN:VEVENT
DTSTART;TZID=America/New_York:20250716T190000
DTEND;TZID=America/New_York:20250716T203000
DTSTAMP:20260424T041842
CREATED:20250309T144938Z
LAST-MODIFIED:20250309T144938Z
UID:2895-1752692400-1752697800@www.raymondsc.com
SUMMARY:Regular Meeting
DESCRIPTION:
URL:https://www.raymondsc.com/event/regular-meeting-9/
END:VEVENT
BEGIN:VEVENT
DTSTART;TZID=America/New_York:20250720T100000
DTEND;TZID=America/New_York:20250720T130000
DTSTAMP:20260424T041842
CREATED:20250426T201508Z
LAST-MODIFIED:20250426T201508Z
UID:2956-1753005600-1753016400@www.raymondsc.com
SUMMARY:Open Pistol Shoot
DESCRIPTION:25 ft & 50 ft – 20 rounds total
URL:https://www.raymondsc.com/event/open-pistol-shoot/
END:VEVENT
END:VCALENDAR