BEGIN:VCALENDAR
VERSION:2.0
PRODID:-//Raymond Sportsman&#039;s Club - ECPv6.15.20//NONSGML v1.0//EN
CALSCALE:GREGORIAN
METHOD:PUBLISH
X-WR-CALNAME:Raymond Sportsman&#039;s Club
X-ORIGINAL-URL:https://www.raymondsc.com
X-WR-CALDESC:Events for Raymond Sportsman&#039;s Club
REFRESH-INTERVAL;VALUE=DURATION:PT1H
X-Robots-Tag:noindex
X-PUBLISHED-TTL:PT1H
BEGIN:VTIMEZONE
TZID:America/New_York
BEGIN:DAYLIGHT
TZOFFSETFROM:-0500
TZOFFSETTO:-0400
TZNAME:EDT
DTSTART:20240310T070000
END:DAYLIGHT
BEGIN:STANDARD
TZOFFSETFROM:-0400
TZOFFSETTO:-0500
TZNAME:EST
DTSTART:20241103T060000
END:STANDARD
BEGIN:DAYLIGHT
TZOFFSETFROM:-0500
TZOFFSETTO:-0400
TZNAME:EDT
DTSTART:20250309T070000
END:DAYLIGHT
BEGIN:STANDARD
TZOFFSETFROM:-0400
TZOFFSETTO:-0500
TZNAME:EST
DTSTART:20251102T060000
END:STANDARD
BEGIN:DAYLIGHT
TZOFFSETFROM:-0500
TZOFFSETTO:-0400
TZNAME:EDT
DTSTART:20260308T070000
END:DAYLIGHT
BEGIN:STANDARD
TZOFFSETFROM:-0400
TZOFFSETTO:-0500
TZNAME:EST
DTSTART:20261101T060000
END:STANDARD
END:VTIMEZONE
BEGIN:VEVENT
DTSTART;TZID=America/New_York:20250405T073000
DTEND;TZID=America/New_York:20250405T170000
DTSTAMP:20260424T065551
CREATED:20250309T143310Z
LAST-MODIFIED:20250309T143310Z
UID:2872-1743838200-1743872400@www.raymondsc.com
SUMMARY:RSC Hunter Ed
DESCRIPTION:
URL:https://www.raymondsc.com/event/rsc-hunter-ed/
END:VEVENT
BEGIN:VEVENT
DTSTART;TZID=America/New_York:20250402T190000
DTEND;TZID=America/New_York:20250402T203000
DTSTAMP:20260424T065551
CREATED:20250309T143112Z
LAST-MODIFIED:20250309T143858Z
UID:2868-1743620400-1743625800@www.raymondsc.com
SUMMARY:Regular Meeting
DESCRIPTION:Membership renewal with be accepted before and after the club meeting.
URL:https://www.raymondsc.com/event/regular-meeting-2/
END:VEVENT
BEGIN:VEVENT
DTSTART;TZID=America/New_York:20250319T190000
DTEND;TZID=America/New_York:20250319T203000
DTSTAMP:20260424T065551
CREATED:20250309T142713Z
LAST-MODIFIED:20250309T142713Z
UID:2862-1742410800-1742416200@www.raymondsc.com
SUMMARY:Regular Meeting
DESCRIPTION:
URL:https://www.raymondsc.com/event/regular-meeting/
END:VEVENT
END:VCALENDAR