BEGIN:VCALENDAR
VERSION:2.0
PRODID:-//Raymond Sportsman&#039;s Club - ECPv6.15.20//NONSGML v1.0//EN
CALSCALE:GREGORIAN
METHOD:PUBLISH
X-WR-CALNAME:Raymond Sportsman&#039;s Club
X-ORIGINAL-URL:https://www.raymondsc.com
X-WR-CALDESC:Events for Raymond Sportsman&#039;s Club
REFRESH-INTERVAL;VALUE=DURATION:PT1H
X-Robots-Tag:noindex
X-PUBLISHED-TTL:PT1H
BEGIN:VTIMEZONE
TZID:America/New_York
BEGIN:DAYLIGHT
TZOFFSETFROM:-0500
TZOFFSETTO:-0400
TZNAME:EDT
DTSTART:20240310T070000
END:DAYLIGHT
BEGIN:STANDARD
TZOFFSETFROM:-0400
TZOFFSETTO:-0500
TZNAME:EST
DTSTART:20241103T060000
END:STANDARD
BEGIN:DAYLIGHT
TZOFFSETFROM:-0500
TZOFFSETTO:-0400
TZNAME:EDT
DTSTART:20250309T070000
END:DAYLIGHT
BEGIN:STANDARD
TZOFFSETFROM:-0400
TZOFFSETTO:-0500
TZNAME:EST
DTSTART:20251102T060000
END:STANDARD
BEGIN:DAYLIGHT
TZOFFSETFROM:-0500
TZOFFSETTO:-0400
TZNAME:EDT
DTSTART:20260308T070000
END:DAYLIGHT
BEGIN:STANDARD
TZOFFSETFROM:-0400
TZOFFSETTO:-0500
TZNAME:EST
DTSTART:20261101T060000
END:STANDARD
END:VTIMEZONE
BEGIN:VEVENT
DTSTART;VALUE=DATE:20251225
DTEND;VALUE=DATE:20251227
DTSTAMP:20260423T184900
CREATED:20250310T235254Z
LAST-MODIFIED:20250310T235254Z
UID:2944-1766638800-1766725199@www.raymondsc.com
SUMMARY:Christmas Day
DESCRIPTION:
URL:https://www.raymondsc.com/event/christmas-day/
END:VEVENT
BEGIN:VEVENT
DTSTART;TZID=America/New_York:20251217T190000
DTEND;TZID=America/New_York:20251217T203000
DTSTAMP:20260423T184900
CREATED:20250309T145654Z
LAST-MODIFIED:20250309T145654Z
UID:2915-1765998000-1766003400@www.raymondsc.com
SUMMARY:Regular Meeting
DESCRIPTION:
URL:https://www.raymondsc.com/event/regular-meeting-19/
END:VEVENT
BEGIN:VEVENT
DTSTART;TZID=America/New_York:20251203T190000
DTEND;TZID=America/New_York:20251203T203000
DTSTAMP:20260423T184900
CREATED:20250309T145540Z
LAST-MODIFIED:20250309T145540Z
UID:2913-1764788400-1764793800@www.raymondsc.com
SUMMARY:Regular Meeting
DESCRIPTION:
URL:https://www.raymondsc.com/event/regular-meeting-18/
END:VEVENT
BEGIN:VEVENT
DTSTART;VALUE=DATE:20251127
DTEND;VALUE=DATE:20251129
DTSTAMP:20260423T184900
CREATED:20250310T235215Z
LAST-MODIFIED:20250310T235215Z
UID:2942-1764219600-1764305999@www.raymondsc.com
SUMMARY:Thanksgiving Day
DESCRIPTION:
URL:https://www.raymondsc.com/event/thanksgiving-day/
END:VEVENT
BEGIN:VEVENT
DTSTART;TZID=America/New_York:20251119T190000
DTEND;TZID=America/New_York:20251119T203000
DTSTAMP:20260423T184900
CREATED:20250309T145500Z
LAST-MODIFIED:20250309T145500Z
UID:2911-1763578800-1763584200@www.raymondsc.com
SUMMARY:Regular Meeting
DESCRIPTION:
URL:https://www.raymondsc.com/event/regular-meeting-17/
END:VEVENT
BEGIN:VEVENT
DTSTART;VALUE=DATE:20251111
DTEND;VALUE=DATE:20251113
DTSTAMP:20260423T184900
CREATED:20250310T235128Z
LAST-MODIFIED:20250310T235128Z
UID:2940-1762837200-1762923599@www.raymondsc.com
SUMMARY:Veterans Day
DESCRIPTION:
URL:https://www.raymondsc.com/event/veterans-day/
END:VEVENT
BEGIN:VEVENT
DTSTART;TZID=America/New_York:20251105T190000
DTEND;TZID=America/New_York:20251105T203000
DTSTAMP:20260423T184900
CREATED:20250309T145423Z
LAST-MODIFIED:20250309T145423Z
UID:2909-1762369200-1762374600@www.raymondsc.com
SUMMARY:Regular Meeting
DESCRIPTION:
URL:https://www.raymondsc.com/event/regular-meeting-16/
END:VEVENT
BEGIN:VEVENT
DTSTART;TZID=America/New_York:20251019T100000
DTEND;TZID=America/New_York:20251019T130000
DTSTAMP:20260423T184900
CREATED:20250426T202038Z
LAST-MODIFIED:20250426T202038Z
UID:2964-1760868000-1760878800@www.raymondsc.com
SUMMARY:Turkey Shoot
DESCRIPTION:Shotgun – Turkey Shot Shells 7-1/2 shot
URL:https://www.raymondsc.com/event/turkey-shoot/
END:VEVENT
BEGIN:VEVENT
DTSTART;TZID=America/New_York:20251015T190000
DTEND;TZID=America/New_York:20251015T203000
DTSTAMP:20260423T184900
CREATED:20250309T145341Z
LAST-MODIFIED:20250309T145341Z
UID:2907-1760554800-1760560200@www.raymondsc.com
SUMMARY:Regular Meeting
DESCRIPTION:
URL:https://www.raymondsc.com/event/regular-meeting-15/
END:VEVENT
BEGIN:VEVENT
DTSTART;VALUE=DATE:20251013
DTEND;VALUE=DATE:20251015
DTSTAMP:20260423T184900
CREATED:20250310T235055Z
LAST-MODIFIED:20250310T235055Z
UID:2938-1760331600-1760417999@www.raymondsc.com
SUMMARY:Columbus Day
DESCRIPTION:
URL:https://www.raymondsc.com/event/columbus-day/
END:VEVENT
BEGIN:VEVENT
DTSTART;TZID=America/New_York:20251005T100000
DTEND;TZID=America/New_York:20251005T130000
DTSTAMP:20260423T184900
CREATED:20250426T201917Z
LAST-MODIFIED:20250426T201917Z
UID:2962-1759658400-1759669200@www.raymondsc.com
SUMMARY:Muzzle Loader Shoot
DESCRIPTION:50 yds. – 5 shots
URL:https://www.raymondsc.com/event/muzzle-loader-shoot/
END:VEVENT
BEGIN:VEVENT
DTSTART;TZID=America/New_York:20251001T190000
DTEND;TZID=America/New_York:20251001T203000
DTSTAMP:20260423T184900
CREATED:20250309T145305Z
LAST-MODIFIED:20250309T145305Z
UID:2905-1759345200-1759350600@www.raymondsc.com
SUMMARY:Regular Meeting
DESCRIPTION:
URL:https://www.raymondsc.com/event/regular-meeting-14/
END:VEVENT
BEGIN:VEVENT
DTSTART;TZID=America/New_York:20250917T190000
DTEND;TZID=America/New_York:20250917T203000
DTSTAMP:20260423T184900
CREATED:20250309T145226Z
LAST-MODIFIED:20250309T145226Z
UID:2903-1758135600-1758141000@www.raymondsc.com
SUMMARY:Regular Meeting
DESCRIPTION:
URL:https://www.raymondsc.com/event/regular-meeting-13/
END:VEVENT
BEGIN:VEVENT
DTSTART;TZID=America/New_York:20250907T100000
DTEND;TZID=America/New_York:20250907T130000
DTSTAMP:20260423T184900
CREATED:20250426T201817Z
LAST-MODIFIED:20250426T201817Z
UID:2960-1757239200-1757250000@www.raymondsc.com
SUMMARY:Shotgun Slug - Running Deer
DESCRIPTION:50 yds. – 5 shots
URL:https://www.raymondsc.com/event/shotgun-slug-running-deer/
END:VEVENT
BEGIN:VEVENT
DTSTART;TZID=America/New_York:20250906T130000
DTEND;TZID=America/New_York:20250906T163000
DTSTAMP:20260423T184900
CREATED:20250310T165634Z
LAST-MODIFIED:20250625T181248Z
UID:2925-1757163600-1757176200@www.raymondsc.com
SUMMARY:Les Houston Field Day
DESCRIPTION:The range is closed from 1:00 pm to 4:30 pm.
URL:https://www.raymondsc.com/event/les-houston-hunter-ed/
END:VEVENT
BEGIN:VEVENT
DTSTART;TZID=America/New_York:20250906T110000
DTEND;TZID=America/New_York:20250906T163000
DTSTAMP:20260423T184900
CREATED:20250625T180913Z
LAST-MODIFIED:20250625T180913Z
UID:2988-1757156400-1757176200@www.raymondsc.com
SUMMARY:RSC Annual Cook Out
DESCRIPTION:
URL:https://www.raymondsc.com/event/rsc-annual-cook-out/
END:VEVENT
BEGIN:VEVENT
DTSTART;TZID=America/New_York:20250903T190000
DTEND;TZID=America/New_York:20250903T203000
DTSTAMP:20260423T184900
CREATED:20250309T145150Z
LAST-MODIFIED:20250309T145150Z
UID:2901-1756926000-1756931400@www.raymondsc.com
SUMMARY:Regular Meeting
DESCRIPTION:
URL:https://www.raymondsc.com/event/regular-meeting-12/
END:VEVENT
BEGIN:VEVENT
DTSTART;VALUE=DATE:20250901
DTEND;VALUE=DATE:20250903
DTSTAMP:20260423T184900
CREATED:20250310T235014Z
LAST-MODIFIED:20250310T235014Z
UID:2936-1756702800-1756789199@www.raymondsc.com
SUMMARY:Labor Day
DESCRIPTION:
URL:https://www.raymondsc.com/event/labor-day/
END:VEVENT
BEGIN:VEVENT
DTSTART;TZID=America/New_York:20250820T190000
DTEND;TZID=America/New_York:20250820T203000
DTSTAMP:20260423T184900
CREATED:20250309T145110Z
LAST-MODIFIED:20250309T145110Z
UID:2899-1755716400-1755721800@www.raymondsc.com
SUMMARY:Regular Meeting
DESCRIPTION:
URL:https://www.raymondsc.com/event/regular-meeting-11/
END:VEVENT
BEGIN:VEVENT
DTSTART;TZID=America/New_York:20250817T100000
DTEND;TZID=America/New_York:20250817T130000
DTSTAMP:20260423T184900
CREATED:20250426T201651Z
LAST-MODIFIED:20250426T201651Z
UID:2958-1755424800-1755435600@www.raymondsc.com
SUMMARY:Rimfire .22 cal Rifle Shoot
DESCRIPTION:25 & 50 yds. – 20 rounds total (No Magnums)
URL:https://www.raymondsc.com/event/rimfire-22-cal-rifle-shoot/
END:VEVENT
BEGIN:VEVENT
DTSTART;TZID=America/New_York:20250809T080000
DTEND;TZID=America/New_York:20250809T170000
DTSTAMP:20260423T184900
CREATED:20250310T165931Z
LAST-MODIFIED:20250310T165931Z
UID:2927-1754726400-1754758800@www.raymondsc.com
SUMMARY:RSC & Ducks Unlimited Gun Raffle
DESCRIPTION:
URL:https://www.raymondsc.com/event/rsc-ducks-unlimited-gun-raffle/
END:VEVENT
BEGIN:VEVENT
DTSTART;TZID=America/New_York:20250806T190000
DTEND;TZID=America/New_York:20250806T203000
DTSTAMP:20260423T184900
CREATED:20250309T145017Z
LAST-MODIFIED:20250309T145032Z
UID:2897-1754506800-1754512200@www.raymondsc.com
SUMMARY:Regular Meeting
DESCRIPTION:
URL:https://www.raymondsc.com/event/regular-meeting-10/
END:VEVENT
BEGIN:VEVENT
DTSTART;TZID=America/New_York:20250802T073000
DTEND;TZID=America/New_York:20250802T170000
DTSTAMP:20260423T184900
CREATED:20250309T145753Z
LAST-MODIFIED:20250309T145753Z
UID:2917-1754119800-1754154000@www.raymondsc.com
SUMMARY:RSC Hunter Ed
DESCRIPTION:
URL:https://www.raymondsc.com/event/rsc-hunter-ed-2/
END:VEVENT
BEGIN:VEVENT
DTSTART;TZID=America/New_York:20250720T100000
DTEND;TZID=America/New_York:20250720T130000
DTSTAMP:20260423T184900
CREATED:20250426T201508Z
LAST-MODIFIED:20250426T201508Z
UID:2956-1753005600-1753016400@www.raymondsc.com
SUMMARY:Open Pistol Shoot
DESCRIPTION:25 ft & 50 ft – 20 rounds total
URL:https://www.raymondsc.com/event/open-pistol-shoot/
END:VEVENT
BEGIN:VEVENT
DTSTART;TZID=America/New_York:20250716T190000
DTEND;TZID=America/New_York:20250716T203000
DTSTAMP:20260423T184900
CREATED:20250309T144938Z
LAST-MODIFIED:20250309T144938Z
UID:2895-1752692400-1752697800@www.raymondsc.com
SUMMARY:Regular Meeting
DESCRIPTION:
URL:https://www.raymondsc.com/event/regular-meeting-9/
END:VEVENT
BEGIN:VEVENT
DTSTART;TZID=America/New_York:20250706T080000
DTEND;TZID=America/New_York:20250706T170000
DTSTAMP:20260423T184900
CREATED:20250310T165414Z
LAST-MODIFIED:20250310T165414Z
UID:2923-1751788800-1751821200@www.raymondsc.com
SUMMARY:GSB Shoot
DESCRIPTION:
URL:https://www.raymondsc.com/event/gsb-shoot-2/
END:VEVENT
BEGIN:VEVENT
DTSTART;VALUE=DATE:20250704
DTEND;VALUE=DATE:20250706
DTSTAMP:20260423T184900
CREATED:20250310T234846Z
LAST-MODIFIED:20250310T234846Z
UID:2934-1751605200-1751691599@www.raymondsc.com
SUMMARY:Independence Day
DESCRIPTION:
URL:https://www.raymondsc.com/event/independence-day/
END:VEVENT
BEGIN:VEVENT
DTSTART;TZID=America/New_York:20250702T190000
DTEND;TZID=America/New_York:20250702T203000
DTSTAMP:20260423T184900
CREATED:20250309T144859Z
LAST-MODIFIED:20250309T144859Z
UID:2893-1751482800-1751488200@www.raymondsc.com
SUMMARY:Regular Meeting
DESCRIPTION:
URL:https://www.raymondsc.com/event/regular-meeting-8/
END:VEVENT
BEGIN:VEVENT
DTSTART;TZID=America/New_York:20250618T190000
DTEND;TZID=America/New_York:20250618T203000
DTSTAMP:20260423T184900
CREATED:20250309T144813Z
LAST-MODIFIED:20250309T144813Z
UID:2891-1750273200-1750278600@www.raymondsc.com
SUMMARY:Regular Meeting
DESCRIPTION:
URL:https://www.raymondsc.com/event/regular-meeting-7/
END:VEVENT
BEGIN:VEVENT
DTSTART;TZID=America/New_York:20250608T100000
DTEND;TZID=America/New_York:20250608T130000
DTSTAMP:20260423T184900
CREATED:20250426T201341Z
LAST-MODIFIED:20250426T201341Z
UID:2954-1749376800-1749387600@www.raymondsc.com
SUMMARY:Clay Target Shoot (weather permitting)
DESCRIPTION:25 rounds total
URL:https://www.raymondsc.com/event/clay-target-shoot-weather-permitting/
END:VEVENT
END:VCALENDAR