BEGIN:VCALENDAR
VERSION:2.0
PRODID:-//Raymond Sportsman&#039;s Club - ECPv6.15.20//NONSGML v1.0//EN
CALSCALE:GREGORIAN
METHOD:PUBLISH
X-ORIGINAL-URL:https://www.raymondsc.com
X-WR-CALDESC:Events for Raymond Sportsman&#039;s Club
REFRESH-INTERVAL;VALUE=DURATION:PT1H
X-Robots-Tag:noindex
X-PUBLISHED-TTL:PT1H
BEGIN:VTIMEZONE
TZID:America/New_York
BEGIN:DAYLIGHT
TZOFFSETFROM:-0500
TZOFFSETTO:-0400
TZNAME:EDT
DTSTART:20250309T070000
END:DAYLIGHT
BEGIN:STANDARD
TZOFFSETFROM:-0400
TZOFFSETTO:-0500
TZNAME:EST
DTSTART:20251102T060000
END:STANDARD
BEGIN:DAYLIGHT
TZOFFSETFROM:-0500
TZOFFSETTO:-0400
TZNAME:EDT
DTSTART:20260308T070000
END:DAYLIGHT
BEGIN:STANDARD
TZOFFSETFROM:-0400
TZOFFSETTO:-0500
TZNAME:EST
DTSTART:20261101T060000
END:STANDARD
BEGIN:DAYLIGHT
TZOFFSETFROM:-0500
TZOFFSETTO:-0400
TZNAME:EDT
DTSTART:20270314T070000
END:DAYLIGHT
BEGIN:STANDARD
TZOFFSETFROM:-0400
TZOFFSETTO:-0500
TZNAME:EST
DTSTART:20271107T060000
END:STANDARD
END:VTIMEZONE
BEGIN:VEVENT
DTSTART;TZID=America/New_York:20260617T190000
DTEND;TZID=America/New_York:20260617T203000
DTSTAMP:20260423T203009
CREATED:20260102T010739Z
LAST-MODIFIED:20260102T010739Z
UID:3077-1781722800-1781728200@www.raymondsc.com
SUMMARY:Regular Meeting
DESCRIPTION:
URL:https://www.raymondsc.com/event/regular-meeting-30/
END:VEVENT
BEGIN:VEVENT
DTSTART;VALUE=DATE:20260621
DTEND;VALUE=DATE:20260623
DTSTAMP:20260423T203009
CREATED:20260102T010815Z
LAST-MODIFIED:20260102T010815Z
UID:3079-1782018000-1782104399@www.raymondsc.com
SUMMARY:Father's Day
DESCRIPTION:
URL:https://www.raymondsc.com/event/fathers-day/
END:VEVENT
BEGIN:VEVENT
DTSTART;VALUE=DATE:20260621
DTEND;VALUE=DATE:20260623
DTSTAMP:20260423T203009
CREATED:20260102T013201Z
LAST-MODIFIED:20260102T013252Z
UID:3083-1782018000-1782104399@www.raymondsc.com
SUMMARY:First Day of Summer
DESCRIPTION:
URL:https://www.raymondsc.com/event/summer-begins/
END:VEVENT
END:VCALENDAR